BEGIN:VCALENDAR
VERSION:2.0
BEGIN:VEVENT
DTSTAMP:20260615T140000Z
DTSTART:20260615T140000Z
SUMMARY:Aðalfundur í Føroya Arbeiðsgevarafelag
DESCRIPTION:
LOCATION:Vinnuhúsið
UID:Q3XtSmdiDUuZvslWsnCGYA
URL:https://www.industry.fo/um-vinnuhusid/a-breddanum/adalfundur-i-foeroya-arbeidsgevarafelag-5
END:VEVENT
END:VCALENDAR
